Felt | Verdi |
AlreadyApplied | True |
Aperture | 1.8 |
ApertureValue | 1.8 |
AutoLateralCA | 0 |
BitsPerSample | 8 |
Blacks2012 | +95 |
BlueHue | 0 |
BlueSaturation | 0 |
CameraProfile | Embedded |
CircleOfConfusion | 0.019 mm |
Clarity2012 | -12 |
ColorComponents | 3 |
ColorNoiseReduction | 99 |
ColorNoiseReductionDetail | 5 |
Contrast2012 | -7 |
ConvertToGrayscale | False |
Copyright | Kenneth Refvik, Reflect. |
CopyrightFlag | True |
CopyrightNotice | Kenneth Refvik, Reflect. |
CreateDate (1) | 2013:01:15 14:08:12.47 |
CreateDate | 2013:01:15 14:08:12 |
CreatorTool | Microsoft Windows Photo Viewer 6.1.7600.16385 |
CustomRendered | Normal |
DateCreated (1) | 2013:01:15 |
DateCreated | 2013:01:15 14:08:12.47 |
DateTimeOriginal | 2013:01:15 14:08:12 |
DefringeGreenAmount | 0 |
DefringeGreenHueHi | 60 |
DefringeGreenHueLo | 40 |
DefringePurpleAmount | 0 |
DefringePurpleHueHi | 70 |
DefringePurpleHueLo | 30 |
Exposure2012 | 0.00 |
ExposureCompensation | 0 |
ExposureMode | Manual |
ExposureProgram | Manual |
ExposureTime | 1/8000 |
Firmware | 1.0.3 |
Flash | Off, Did not fire |
FlashCompensation | 0 |
FNumber | 1.8 |
FocalLength | 50.0 mm |
FocalLength35efl | 50.0 mm (35 mm equivalent: 79.2 mm) |
Format | image/jpeg |
FOV | 25.6 deg |
GradientBasedCorrActive | true |
GradientBasedCorrAmount | 1.000000 |
GradientBasedCorrBrightness | 0.000000 |
GradientBasedCorrClarity2012 | 0.642860 |
GradientBasedCorrContrast2012 | 0.738100 |
GradientBasedCorrDefringe | 0.000000 |
GradientBasedCorrExposure2012 | 0.000000 |
GradientBasedCorrHighlights2012 | 1.000000 |
GradientBasedCorrHue | 0.000000 |
GradientBasedCorrLuminanceNoise | 0.000000 |
GradientBasedCorrMaskFullX | 0.004665 |
GradientBasedCorrMaskFullY | 0.510451 |
GradientBasedCorrMaskValue | 1.000000 |
GradientBasedCorrMaskWhat | Mask/Gradient |
GradientBasedCorrMaskZeroX | -0.143848 |
GradientBasedCorrMaskZeroY | 0.490075 |
GradientBasedCorrMoire | 0.000000 |
GradientBasedCorrSaturation | 0.000000 |
GradientBasedCorrShadows2012 | -0.285710 |
GradientBasedCorrSharpness | 0.000000 |
GradientBasedCorrTemperature | 0.000000 |
GradientBasedCorrTint | 0.000000 |
GradientBasedCorrWhat | Correction |
GrainAmount | 0 |
GreenHue | 0 |
GreenSaturation | 0 |
HasCrop | False |
HasSettings | True |
Highlights2012 | -52 |
HueAdjustmentAqua | 0 |
HueAdjustmentBlue | 0 |
HueAdjustmentGreen | 0 |
HueAdjustmentMagenta | 0 |
HueAdjustmentOrange | 0 |
HueAdjustmentPurple | 0 |
HueAdjustmentRed | 0 |
HueAdjustmentYellow | 0 |
HyperfocalDistance | 73.25 m |
ImageHeight | 3920 |
ImageNumber | 0 |
ImageSize | 1993x3920 |
ImageWidth | 1993 |
IncrementalTemperature | 0 |
IncrementalTint | 0 |
ISO | 100 |
Label | Reflect. |
Lens | EF50mm f/1.8 II |
LensID (1) | 29 |
LensID | Canon EF 50mm f/1.8 II |
LensInfo | 50mm f/? |
LensManualDistortionAmount | 0 |
LensModel | EF50mm f/1.8 II |
LensProfileEnable | 0 |
LensProfileSetup | LensDefaults |
LightValue | 14.7 |
LuminanceAdjustmentAqua | 0 |
LuminanceAdjustmentBlue | 0 |
LuminanceAdjustmentGreen | 0 |
LuminanceAdjustmentMagenta | 0 |
LuminanceAdjustmentOrange | 0 |
LuminanceAdjustmentPurple | 0 |
LuminanceAdjustmentRed | 0 |
LuminanceAdjustmentYellow | 0 |
LuminanceNoiseReductionContrast | 85 |
LuminanceNoiseReductionDetail | 50 |
LuminanceSmoothing | 27 |
Make | Canon |
Marked | True |
MaxApertureValue | 1.8 |
Megapixels | 7.8 |
MeteringMode | Multi-segment |
Model | Canon EOS 50D |
ModifyDate (1) | 2013:06:01 00:58:07+02:00 |
ModifyDate | 2013:06:01 02:05:41 |
ObjectName | Art Photographer |
Orientation | Horizontal (normal) |
OriginatingProgram | Microsoft Windows Photo Viewer 6.1.7600.16385 |
PaintCorrectionActive | true |
PaintCorrectionAmount | 1.000000 |
PaintCorrectionBrightness | 0.000000 |
PaintCorrectionClarity2012 | 0.000000 |
PaintCorrectionContrast2012 | 0.000000 |
PaintCorrectionDefringe | 0.000000 |
PaintCorrectionExposure2012 (1) | 0.980000 |
PaintCorrectionExposure2012 | 1.000000 |
PaintCorrectionHighlights2012 (1) | 0.769996 |
PaintCorrectionHighlights2012 | 0.785710 |
PaintCorrectionHue | 0.000000 |
PaintCorrectionLuminanceNoise | 0.000000 |
PaintCorrectionMaskCenterWeight | 1.000000 |
PaintCorrectionMaskFlow | 1.000000 |
PaintCorrectionMaskRadius (4) | 0.018314 |
PaintCorrectionMaskRadius (7) | 0.002820 |
PaintCorrectionMaskRadius | 0.006455 |
PaintCorrectionMaskValue | 1.000000 |
PaintCorrectionMaskWhat | Mask/Paint |
PaintCorrectionMoire | 0.000000 |
PaintCorrectionSaturation | 0.000000 |
PaintCorrectionShadows2012 | 0.000000 |
PaintCorrectionSharpness | 0.000000 |
PaintCorrectionTemperature | 0.000000 |
PaintCorrectionTint | 0.000000 |
PaintCorrectionWhat | Correction |
ParametricDarks | 0 |
ParametricHighlights | +34 |
ParametricHighlightSplit | 75 |
ParametricLights | -20 |
ParametricMidtoneSplit | 50 |
ParametricShadows | +63 |
ParametricShadowSplit | 25 |
PerspectiveHorizontal | 0 |
PerspectiveRotate | 0.0 |
PerspectiveScale | 100 |
PerspectiveVertical | 0 |
PostCropVignetteAmount | 0 |
ProcessVersion | 6.7 |
ProfileDescription | Adobe RGB (1998) |
RedHue | 0 |
RedSaturation | 0 |
Rights | Kenneth Refvik, Reflect. |
Saturation | 0 |
SaturationAdjustmentAqua | -100 |
SaturationAdjustmentBlue | -100 |
SaturationAdjustmentGreen | -100 |
SaturationAdjustmentMagenta | -100 |
SaturationAdjustmentOrange | -100 |
SaturationAdjustmentPurple | -100 |
SaturationAdjustmentRed | -71 |
SaturationAdjustmentYellow | -100 |
ScaleFactor35efl | 1.6 |
SceneCaptureType | Standard |
SerialNumber | 430353506 |
Shadows2012 | 0 |
ShadowTint | 0 |
SharpenDetail | 25 |
SharpenEdgeMasking | 0 |
SharpenRadius | +1.0 |
Sharpness | 0 |
ShutterSpeed | 1/8000 |
ShutterSpeedValue | 1/8000 |
Software | Microsoft Windows Photo Viewer 6.1.7600.16385 |
SplitToningBalance | 0 |
SplitToningHighlightHue | 56 |
SplitToningHighlightSaturation | 45 |
SplitToningShadowHue | 236 |
SplitToningShadowSaturation | 12 |
Title | Art Photographer |
ToneCurveName2012 | Linear |
ToneCurvePV2012 | 0, 0, 255, 255 |
ToneCurvePV2012Blue | 0, 0, 255, 255 |
ToneCurvePV2012Green | 0, 0, 255, 255 |
ToneCurvePV2012Red | 0, 0, 255, 255 |
URL | http://photo.net/photos/KennethRefvik |
UsageTerms | All photos are copyright the photographer, and may not be used without written permission. |
Version | 7.1 |
Vibrance | +40 |
VignetteAmount | 0 |
WebStatement | http://photo.net/photos/KennethRefvik |
WhiteBalance (1) | Custom |
WhiteBalance | Auto |
Whites2012 | -5 |