Felt | Verdi |
AlreadyApplied | True |
Aperture | 5.6 |
ApertureValue | 5.6 |
ApproximateFocusDistance | 4294967295 |
Artist | ulf olsson |
AutoLateralCA | 0 |
BitsPerSample | 8 |
Blacks2012 | 0 |
BlueHue | 0 |
BlueSaturation | 0 |
By-line | ulf olsson |
CameraProfile | Adobe Standard |
CFAPattern | [Red,Green][Green,Blue] |
CircleOfConfusion | 0.030 mm |
Clarity2012 | +60 |
ColorComponents | 1 |
ColorNoiseReduction | 25 |
ColorNoiseReductionDetail | 50 |
ColorTemperature | 7000 |
Contrast | Normal |
Contrast2012 | -24 |
ConvertToGrayscale | True |
Copyright | ulf olsson |
CopyrightNotice | ulf olsson |
CreateDate (1) | 2012:11:18 16:36:03.08 |
CreateDate | 2012:11:18 16:36:03 |
Creator | ulf olsson |
CreatorAddress | gilegata 26 |
CreatorCity | 3159 melsomvik |
CreatorRegion | norway |
CreatorTool | Adobe Photoshop Lightroom 4.2 (Macintosh) |
CropAngle | 0.047628 |
CropBottom | 0.96422 |
CropConstrainToWarp | 0 |
CropHeight | 521 |
CropLeft | 0.000829 |
CropRight | 0.747028 |
CropTop | 0.128342 |
CropUnit | pixels |
CropWidth | 700 |
CustomRendered | Normal |
DateCreated (1) | 2012:11:18 |
DateCreated | 2012:11:18 16:36:03.08 |
DateTimeOriginal | 2012:11:18 16:36:03 |
DigitalZoomRatio | 1 |
DOF | inf (3.42 m - inf) |
Exposure2012 | -1.25 |
ExposureCompensation | +2/3 |
ExposureMode | Auto |
ExposureProgram | Aperture-priority AE |
ExposureTime | 1/10 |
Flash | No Flash |
FNumber | 5.6 |
FocalLength | 24.0 mm |
FocalLength35efl | 24.0 mm (35 mm equivalent: 24.0 mm) |
FocalLengthIn35mmFormat | 24 mm |
Format | image/jpeg |
FOV | 73.7 deg |
GainControl | None |
GrainAmount | 0 |
GrayMixerAqua | -18 |
GrayMixerBlue | +10 |
GrayMixerGreen | -27 |
GrayMixerMagenta | +4 |
GrayMixerOrange | -19 |
GrayMixerPurple | +16 |
GrayMixerRed | -10 |
GrayMixerYellow | -23 |
GreenHue | 0 |
GreenSaturation | 0 |
HasCrop | True |
HasSettings | True |
Highlights2012 | -80 |
HyperfocalDistance | 3.42 m |
ImageHeight | 521 |
ImageNumber | 23578 |
ImageSize | 700x521 |
ImageWidth | 700 |
ISO | 200 |
Lens | 24.0-120.0 mm f/3.5-5.6 |
LensID (1) | 120 |
LensID | AF-S VR Zoom-Nikkor 24-120mm f/3.5-5.6G IF-ED |
LensInfo | 24-120mm f/3.5-5.6 |
LensManualDistortionAmount | 0 |
LensModel | 24.0-120.0 mm f/3.5-5.6 |
LensProfileEnable | 0 |
LensProfileSetup | LensDefaults |
LightSource | Unknown |
LightValue | 7.3 |
LuminanceNoiseReductionContrast | 48 |
LuminanceNoiseReductionDetail | 50 |
LuminanceSmoothing | 58 |
Make | NIKON CORPORATION |
MaxApertureValue | 3.5 |
Megapixels | 0.365 |
MeteringMode | Multi-segment |
Model | NIKON D700 |
ModifyDate (1) | 2012:11:19 23:42:41+01:00 |
ModifyDate | 2012:11:19 23:42:41 |
ParametricDarks | -77 |
ParametricHighlights | -45 |
ParametricHighlightSplit | 75 |
ParametricLights | +37 |
ParametricMidtoneSplit | 50 |
ParametricShadows | +100 |
ParametricShadowSplit | 25 |
PerspectiveHorizontal | 0 |
PerspectiveRotate | 0.0 |
PerspectiveScale | 100 |
PerspectiveVertical | 0 |
PostCropVignetteAmount | 0 |
ProcessVersion | 6.7 |
ProfileDescription | sRGB IEC61966-2.1 |
RedHue | 0 |
RedSaturation | 0 |
Rights | ulf olsson |
Saturation | Normal |
ScaleFactor35efl | 1.0 |
SceneCaptureType | Standard |
SceneType | Directly photographed |
SensingMethod | One-chip color area |
SerialNumber | 2352225 |
Shadows2012 | 0 |
ShadowTint | 0 |
SharpenDetail | 53 |
SharpenEdgeMasking | 57 |
SharpenRadius | +1.0 |
Sharpness (1) | 70 |
Sharpness | Normal |
ShutterSpeed | 1/10 |
ShutterSpeedValue | 1/10 |
Software | Adobe Photoshop Lightroom 4.2 (Macintosh) |
SplitToningBalance | 0 |
SplitToningHighlightHue | 0 |
SplitToningHighlightSaturation | 0 |
SplitToningShadowHue | 0 |
SplitToningShadowSaturation | 0 |
SubjectDistanceRange | Unknown |
Tint | +1 |
ToneCurveName2012 | Linear |
ToneCurvePV2012 | 0, 0, 255, 255 |
ToneCurvePV2012Blue | 0, 0, 255, 255 |
ToneCurvePV2012Green | 0, 0, 255, 255 |
ToneCurvePV2012Red | 0, 0, 255, 255 |
Version | 7.2 |
VignetteAmount | 0 |
WhiteBalance (1) | Custom |
WhiteBalance | Auto |
Whites2012 | 0 |