Felt | Verdi |
AlreadyApplied | True |
Aperture | 2.8 |
ApertureValue | 2.8 |
Artist | sissel nystad |
BitsPerSample | 8 |
BlueHue | 0 |
BlueSaturation | 0 |
Brightness | 0 |
By-line | sissel nystad |
CameraProfile | ACR 4.4 |
CFAPattern | [Red,Green][Green,Blue] |
ChromaticAberrationB | 0 |
ChromaticAberrationR | 0 |
CircleOfConfusion | 0.020 mm |
Clarity | +22 |
ColorComponents | 3 |
ColorMode | RGB |
ColorNoiseReduction | 25 |
ColorSpace | sRGB |
ColorTemperature | 5600 |
Contrast (2) | 0 |
Contrast | Normal |
ConvertToGrayscale | False |
Copyright | copyright 2008 www.sisselnystad.com |
CopyrightFlag | True |
CopyrightNotice | copyright 2008 www.sisselnystad.com |
CreateDate (1) | 2011:05:08 19:32:01.43+02:00 |
CreateDate | 2011:05:08 19:32:01 |
Creator | sissel nystad |
CreatorTool | Ver.1.03 |
CustomRendered | Normal |
DateTimeDigitized | 2011:05:08 19:32:01.43+02:00 |
DateTimeOriginal (1) | 2011:05:08 19:32:01.43+02:00 |
DateTimeOriginal | 2011:05:08 19:32:01 |
Defringe | 0 |
DigitalZoomRatio | 1 |
DOF | 1.45 m (2.78 - 4.22 m) |
ExifImageHeight | 800 |
ExifImageWidth | 965 |
Exposure | +1.15 |
ExposureCompensation | 0 |
ExposureMode | Manual |
ExposureProgram | Manual |
ExposureTime | 1/125 |
FillLight | 0 |
Flash | No Flash |
FlashFired | False |
FlashFunction | False |
FlashMode | Unknown |
FlashRedEyeMode | False |
FlashReturn | No return detection |
FNumber | 2.8 |
FocalLength | 30.0 mm |
FocalLength35efl | 30.0 mm (35 mm equivalent: 45.0 mm) |
FocalLengthIn35mmFormat | 45 mm |
Format | image/jpeg |
FOV | 43.6 deg |
GainControl | Low gain up |
GrainAmount | 0 |
GreenHue | 0 |
GreenSaturation | 0 |
HasCrop | False |
HasSettings | True |
HighlightRecovery | 0 |
HueAdjustmentAqua | 0 |
HueAdjustmentBlue | 0 |
HueAdjustmentGreen | 0 |
HueAdjustmentMagenta | 0 |
HueAdjustmentOrange | 0 |
HueAdjustmentPurple | 0 |
HueAdjustmentRed | 0 |
HueAdjustmentYellow | 0 |
HyperfocalDistance | 16.05 m |
ICCProfileName | sRGB IEC61966-2.1 |
ImageHeight | 800 |
ImageNumber | 89748 |
ImageSize | 965x800 |
ImageWidth | 965 |
ISO | 800 |
Lens | 18.0-50.0 mm f/2.8 |
LensID (1) | 122 |
LensID | Sigma 18-50mm F2.8 EX DC Macro |
LensInfo | 18-50mm f/2.8 |
LightSource | Unknown |
LightValue | 6.9 |
LuminanceAdjustmentAqua | 0 |
LuminanceAdjustmentBlue | 0 |
LuminanceAdjustmentGreen | 0 |
LuminanceAdjustmentMagenta | 0 |
LuminanceAdjustmentOrange | 0 |
LuminanceAdjustmentPurple | 0 |
LuminanceAdjustmentRed | 0 |
LuminanceAdjustmentYellow | 0 |
LuminanceSmoothing | 0 |
Make | NIKON CORPORATION |
Marked | True |
MaxApertureValue | 2.8 |
Megapixels | 0.772 |
MeteringMode | Spot |
Model | NIKON D300 |
ModifyDate (1) | 2011:05:26 15:16:41+02:00 |
ModifyDate | 2011:05:26 15:16:41 |
Orientation | Horizontal (normal) |
ParametricDarks | 0 |
ParametricHighlights | 0 |
ParametricHighlightSplit | 75 |
ParametricLights | 0 |
ParametricMidtoneSplit | 50 |
ParametricShadows | 0 |
ParametricShadowSplit | 25 |
PostCropVignetteAmount | 0 |
ProcessVersion | 5.0 |
ProfileDescription | sRGB IEC61966-2.1 |
Rating | 5 |
RawFileName | fabrikkeidsvollmai2011_0417.dng |
RedHue | 0 |
RedSaturation | 0 |
Rights | copyright 2008 www.sisselnystad.com |
Saturation (2) | +8 |
Saturation | Normal |
SaturationAdjustmentAqua | 0 |
SaturationAdjustmentBlue | 0 |
SaturationAdjustmentGreen | 0 |
SaturationAdjustmentMagenta | 0 |
SaturationAdjustmentOrange | 0 |
SaturationAdjustmentPurple | 0 |
SaturationAdjustmentRed | 0 |
SaturationAdjustmentYellow | 0 |
ScaleFactor35efl | 1.5 |
SceneCaptureType | Standard |
SceneType | Directly photographed |
SensingMethod | One-chip color area |
SerialNumber | 4058725 |
Shadows | 1 |
ShadowTint | 0 |
SharpenDetail | 25 |
SharpenEdgeMasking | 0 |
SharpenRadius | +1.0 |
Sharpness (2) | 25 |
Sharpness | Normal |
ShutterSpeed | 1/125 |
ShutterSpeedValue | 1/125 |
Software | Adobe Photoshop CS4 Macintosh |
SplitToningBalance | 0 |
SplitToningHighlightHue | 0 |
SplitToningHighlightSaturation | 0 |
SplitToningShadowHue | 0 |
SplitToningShadowSaturation | 0 |
SubjectDistance | 3.35 m |
SubjectDistanceRange | Unknown |
Tint | -2 |
ToneCurve | 0, 0, 32, 22, 64, 56, 128, 128, 192, 196, 255, 255 |
ToneCurveName | Medium Contrast |
URL | www.sisselnyastad.com |
URL_List | |
Version | 5.7 |
Vibrance | +19 |
VignetteAmount | 0 |
WebStatement | www.sisselnyastad.com |
WhiteBalance (2) | As Shot |
WhiteBalance | Auto |