Felt | Verdi |
2010-11-12T11:13:18+01:00 File D:\Mine Bilder\001-Norge\100_CANON\2010\2010.09.05 - dråper, arnold-garasje, tåke, bår ved vatn,\ukjent.jpg saved
2010-11-12T11:13:25+01:00 File 20100814_0130-2 closed
2010-11-12T11:14:13+01:00 File D:\Mine Bilder\001-Norge\100_CANON\Bilder til web\ukjent.jpg saved
Add Layer Mask
AlreadyApplied | True |
Angle: 0°
Aperture | 5.6 |
ApertureValue | 5.6 |
ApproximateFocusDistance | 11.5 |
Artist | Asgeir Sørhus |
As: Camera Raw
At: mask channel
Bevel and Emboss: bevel and emboss
BitsPerSample | 8 |
Blacks: 5
Blue Hue: 0
Blue Saturation: 0
Blue: 0
Blue: 110
Blue: 255
BlueHue | 0 |
BlueSaturation | 0 |
Bottom: 11,89 cm
Bottom: 21,26 cm
Brightness | +50 |
Brightness: 50
Burn Tool
By-line | Asgeir Sørhus |
Camera Profile: “Camera Portrait”
CameraProfile | Camera Portrait |
Channel Parameters
Channel: blue channel
Channel: composite channel
Channel: green channel
Channel: red channel
Chromatic Aberration B: 0
Chromatic Aberration R: 0
ChromaticAberrationB | 0 |
ChromaticAberrationR | 0 |
CircleOfConfusion | 0.019 mm |
Clarity | +96 |
Clarity: 96
Close Saving: no
Color Noise Detail: 50
Color Noise Reduction: 25
Color: RGB color
ColorComponents | 3 |
ColorMode | RGB |
ColorNoiseReduction | 25 |
ColorNoiseReductionDetail | 50 |
ColorSpace | Uncalibrated |
ColorTemperature | 4800 |
Contour: Contour
Contrast | +39 |
Contrast: 0%
Contrast: 39
ConvertToGrayscale | False |
CopyrightFlag | True |
CreateDate (1) | 2010:08:14 16:34:48.34+02:00 |
CreateDate | 2010:08:14 16:34:48 |
Creator | Asgeir Sørhus |
CreatorCountry | Norge |
CreatorWorkURL | www.asjer.net |
Crop
Crop Angle: 0
Crop Bottom: 0
Crop Left: 0
Crop Right: 0
Crop To: rectangle
Crop Top: 0
CustomRendered | Normal |
DateCreated (1) | 2010:08:14 |
DateCreated | 2010:08:14 16:34:48.034 |
DateTimeOriginal | 2010:08:14 16:34:48 |
Defringe | 0 |
Defringe: 0
Depth: 100%
Depth: 8 Bits/channel
Deselect
Direction: up
Distance: 8 pixels
DOF | 0.17 m (11.42 - 11.58 m) |
Drag Layer
Drop Shadow: drop shadow
Elliptical Marquee
ExifImageHeight | 770 |
ExifImageWidth | 1276 |
Exposure | +1.00 |
Exposure: 1
ExposureCompensation | 0 |
ExposureMode | Auto |
ExposureProgram | Aperture-priority AE |
ExposureTime | 1/800 |
Feather: 1,4 pixels
Fill Light: 0
FillLight | 0 |
Firmware | 1.1.1 |
Flash | Off, Did not fire |
FlashCompensation | 0 |
Flip Canvas Horizontal
Flip first document Axis: horizontal
FNumber | 5.6 |
FocalLength | 400.0 mm |
FocalLength35efl | 400.0 mm (35 mm equivalent: 647.5 mm) |
Format | image/jpeg |
FOV | 3.2 deg |
Gloss Curve: Contour
Grain Amount: 0
GrainAmount | 0 |
Green Hue: 0
Green Saturation: 0
Green: 0
Green: 185,996
Green: 255
GreenHue | 0 |
GreenSaturation | 0 |
HasCrop | False |
HasSettings | True |
Highlight Color: RGB color
Highlight Mode: screen
Highlight Opacity: 75%
HighlightRecovery | 60 |
Hue Adjust Aqua: 0
Hue Adjust Blue: 0
Hue Adjust Green: 0
Hue Adjust Magenta: 0
Hue Adjust Orange: 0
Hue Adjust Purple: 0
Hue Adjust Red: 0
Hue Adjust Yellow: 0
HueAdjustmentAqua | 0 |
HueAdjustmentBlue | 0 |
HueAdjustmentGreen | 0 |
HueAdjustmentMagenta | 0 |
HueAdjustmentOrange | 0 |
HueAdjustmentPurple | 0 |
HueAdjustmentRed | 0 |
HueAdjustmentYellow | 0 |
HyperfocalDistance | 1539.34 m |
ICCProfileName | Adobe RGB (1998) |
Image Size
Image Size Resolution: 70,866 per cm
ImageHeight | 770 |
ImageNumber | 0 |
ImageSize | 1276x770 |
ImageWidth | 1276 |
In: D:\Mine Bilder\001-Norge\100_CANON\2010\2010.09.05 - dråper, arnold-garasje, tåke, bår ved vatn,\ukjent.jpg
Interpolation: bicubic
Invert
ISO | 200 |
Layer Style
Left: 10,98 cm
Left: 21,41 cm
Lens Profile Aberration: 100
Lens Profile Distortion: 100
Lens Profile Enable: 1
Lens Profile File: “Canon (SIGMA APO 50-500mm F4.5-6.3 DG OS HSM) - RAW.lcp”
Lens Profile Name: “Adobe (SIGMA APO 50-500mm F4.5-6.3 DG OS HSM, Canon)”
Lens Profile Setup: 2
Lens Profile Vignetting: 100
Lens | EF400mm f/5.6L USM |
LensID (1) | 172 |
LensID | Canon EF 400mm f/5.6L USM |
LensInfo | 400mm f/? |
LensManualDistortionAmount | 0 |
LensModel | EF400mm f/5.6L USM |
LensProfileChromaticAberrationScale | 100 |
LensProfileDistortionScale | 100 |
LensProfileEnable | 1 |
LensProfileFilename | Canon (SIGMA APO 50-500mm F4.5-6.3 DG OS HSM) - RAW.lcp |
LensProfileName | Adobe (SIGMA APO 50-500mm F4.5-6.3 DG OS HSM, Canon) |
LensProfileSetup | Custom |
LensProfileVignettingScale | 100 |
LightValue | 13.6 |
Local Adjustments: “”
Local Altitude: 30°
Local Angle: 120°
Location: inside
Luminance Adjust Aqua: 0
Luminance Adjust Blue: 0
Luminance Adjust Green: 0
Luminance Adjust Magenta: 0
Luminance Adjust Orange: 0
Luminance Adjust Purple: 0
Luminance Adjust Red: 0
Luminance Adjust Yellow: 0
Luminance Noise Reduction: 0
LuminanceAdjustmentAqua | 0 |
LuminanceAdjustmentBlue | 0 |
LuminanceAdjustmentGreen | 0 |
LuminanceAdjustmentMagenta | 0 |
LuminanceAdjustmentOrange | 0 |
LuminanceAdjustmentPurple | 0 |
LuminanceAdjustmentRed | 0 |
LuminanceAdjustmentYellow | 0 |
LuminanceSmoothing | 0 |
Make layer
Make New: channel
Make | Canon |
Marked | True |
Matte: none
MaxApertureValue | 5.7 |
Megapixels | 0.983 |
Merge Visible With Duplicate
MeteringMode | Spot |
Mode: multiply
Mode: normal
Model | Canon EOS 40D |
Model: “Canon EOS 40D”
ModifyDate (1) | 2010:11:12 11:14:13+01:00 |
ModifyDate | 2010:11:12 11:14:13 |
Name: “Coarse Weave”
Name: “Linear”
New Layer
Noise: 0%
Opacity: 100%
Opacity: 49%
Open D:\Mine Bilder\001-Norge\100_CANON\2010\2010.09.05 - dråper, arnold-garasje, tåke, bår ved vatn,\20100814_0130.CR2
Orientation | Horizontal (normal) |
Output Sharpen For: None
Output: Selection
Parametric Darks: 0
Parametric Highlight Split: 75
Parametric Highlights: 0
Parametric Lights: 0
Parametric Midtone Split: 50
Parametric Shadow Split: 25
Parametric Shadows: 0
ParametricDarks | 0 |
ParametricHighlights | 0 |
ParametricHighlightSplit | 75 |
ParametricLights | 0 |
ParametricMidtoneSplit | 50 |
ParametricShadows | 0 |
ParametricShadowSplit | 25 |
Pattern ID: “fd577f69-ee44-11df-8671-8fa57afe2139”
PerspectiveHorizontal | 0 |
PerspectiveRotate | 0.0 |
PerspectiveScale | 100 |
PerspectiveVertical | 0 |
Post Crop Vignetting Amount: 0
PostCropVignetteAmount | 0 |
Preserve Details: 25
Preserve Details: 41
Preserve Details: 48
Preserve Details: 53
Process Version: 84344832
ProcessVersion | 5.7 |
ProfileDescription | Adobe RGB (1998) |
Quality: 12
Rating | 0 |
RawFileName | 20100814_0130.CR2 |
Recovery: 60
Red Eye: “”
Red Hue: 0
Red Saturation: 0
Red: 0
Red: 161
Red: 255
RedHue | 0 |
Redo
RedSaturation | 0 |
Reduce Noise
Reduce Noise Color Noise: 100%
Refine Edge
Refine Edge Radius: 0 pixels
Resolution: 240
Right: 21,65 cm
Right: 28,99 cm
Saturation Adjust Aqua: 0
Saturation Adjust Blue: 0
Saturation Adjust Green: 0
Saturation Adjust Magenta: 0
Saturation Adjust Orange: 0
Saturation Adjust Purple: 0
Saturation Adjust Red: 0
Saturation Adjust Yellow: 0
Saturation | 0 |
Saturation: 0
SaturationAdjustmentAqua | 0 |
SaturationAdjustmentBlue | 0 |
SaturationAdjustmentGreen | 0 |
SaturationAdjustmentMagenta | 0 |
SaturationAdjustmentOrange | 0 |
SaturationAdjustmentPurple | 0 |
SaturationAdjustmentRed | 0 |
SaturationAdjustmentYellow | 0 |
Save As: JPEG
Scale: 1
Scale: 333,3%
ScaleFactor35efl | 1.6 |
SceneCaptureType | Standard |
Select burn
Select Canvas
Select current channel Without Make Visible
Select history state -13
Select history state -2
Select history state -4
Select history state -7
Select history state -8
Select previous history state
Select RGB channel Without Make Visible
SensitivityType | Unknown |
SerialNumber | 2331205749 |
Set Layer Styles of current layer To: layer styles
Set Selection To: all
Set Selection To: ellipse
Set Selection To: none
Settings Name: “Default”
Settings: Custom
Shadow Color: RGB color
Shadow Mode: multiply
Shadow Opacity: 75%
Shadow Tint: 0
Shadows | 5 |
ShadowTint | 0 |
Sharpen Amount: 25
Sharpen Detail: 25
Sharpen Masking: 0
Sharpen Radius: 1
Sharpen: 64%
SharpenDetail | 25 |
SharpenEdgeMasking | 0 |
SharpenRadius | +1.0 |
Sharpness | 25 |
Shift Edge: 0%
ShutterSpeed | 1/800 |
ShutterSpeedValue | 1/800 |
SidecarForExtension | CR2 |
Size: 10 pixels
Size: 17 pixels
Smooth: 0
Soften: 0 pixels
Software | Adobe Photoshop CS5 Windows |
Space: Adobe RGB (1998)
Split Tone Balance: 0
Split Tone Highlight Hue: 0
Split Tone Highlight Saturation: 0
Split Tone Shadow Hue: 0
Split Tone Shadow Saturation: 0
SplitToningBalance | 0 |
SplitToningHighlightHue | 0 |
SplitToningHighlightSaturation | 0 |
SplitToningShadowHue | 0 |
SplitToningShadowSaturation | 0 |
Spread: 6 pixels
Stamp Visible
Strength: 10
Stroke
Stroke Width: 10
Style: inner bevel
SubjectDistance | 11.5 m |
Target Height: 0 pixels
Target Resolution: 0 per cm
Target Width: 0 pixels
Technique: smooth
Texture Depth: 34%
Texture Phase: 0, 0
Texture Scale: 33%
Texture: pattern
Tint | +21 |
Tone Curve: 0, 0, 32, 22, 64, 56, 128, 128, 192, 196, 255, 255
ToneCurve | 0, 0, 32, 22, 64, 56, 128, 128, 192, 196, 255, 255 |
ToneCurveName | Medium Contrast |
Top: 10,39 cm
Top: 11,68 cm
Transform Distortion: 0
Transform Horizontal: 0
Transform Rotate: 0
Transform Scale: 100
Transform Vertical: 0
Undo
URL_List | |
Using: reveal selection
Version | 6.2 |
Vibrance | +33 |
Vibrance: 33
VignetteAmount | 0 |
Vignetting Amount: 0
White Balance: As Shot
WhiteBalance (1) | As Shot |
WhiteBalance | Auto |
With Align Texture With Layer
With Anti-alias
With Apply Texture
With Constrain Proportions
With Copy
With Enabled
With layer knocks out
With Scale Styles
With Use Global Light
With: Channel Parameters list
Without Anti-alias
Without Anti-alias Gloss
Without Apply Shape
Without Convert to Grayscale
Without Decontaminate Colors
Without Invert Texture
Without Remove JPEG Artifact
Without Smart Radius