Felt | Verdi |
AlreadyApplied | True |
BitsPerSample | 8 |
BlueHue | 0 |
BlueSaturation | 0 |
Brightness | 0 |
CameraProfile | Embedded |
ChromaticAberrationB | 0 |
ChromaticAberrationR | 0 |
Clarity | +31 |
ColorComponents | 1 |
ColorNoiseReduction | 0 |
ColorSpace | Unknown (-1) |
Contrast | 0 |
ConvertToGrayscale | True |
CreateDate | 2008:03:13 21:09:15+01:00 |
CreatorTool | Adobe Photoshop Lightroom |
CropAngle | 0 |
CropBottom | 0.815029 |
CropConstrainToWarp | 0 |
CropHeight | 659 |
CropLeft | 0.121723 |
CropRight | 0.941948 |
CropTop | 0 |
CropUnit | pixels |
CropWidth | 1024 |
Defringe | 0 |
ExifImageHeight | 659 |
ExifImageWidth | 1024 |
Exposure | 0.00 |
FillLight | 0 |
Format | image/tiff |
GrainAmount | 0 |
GrayMixerAqua | -17 |
GrayMixerBlue | +12 |
GrayMixerGreen | -27 |
GrayMixerMagenta | +3 |
GrayMixerOrange | -20 |
GrayMixerPurple | +17 |
GrayMixerRed | -11 |
GrayMixerYellow | -24 |
GreenHue | 0 |
GreenSaturation | 0 |
HasCrop | True |
HasSettings | True |
HighlightRecovery | 0 |
ImageHeight | 659 |
ImageSize | 1024x659 |
ImageWidth | 1024 |
IncrementalTemperature | 0 |
IncrementalTint | 0 |
Keywords | fly, nasca, sør-amerika |
LensManualDistortionAmount | 0 |
LensProfileEnable | 0 |
LensProfileSetup | LensDefaults |
LuminanceSmoothing | 0 |
Make | Nikon |
Megapixels | 0.675 |
Model | Nikon COOLSCAN V ED |
ModifyDate (1) | 2010:08:03 20:52:03-07:00 |
ModifyDate | 2010:08:03 20:52:03 |
ParametricDarks | -100 |
ParametricHighlights | +40 |
ParametricHighlightSplit | 75 |
ParametricLights | +9 |
ParametricMidtoneSplit | 50 |
ParametricShadows | -61 |
ParametricShadowSplit | 25 |
PerspectiveHorizontal | 0 |
PerspectiveRotate | 0.0 |
PerspectiveScale | 100 |
PerspectiveVertical | 0 |
PostCropVignetteAmount | 0 |
ProcessVersion | 5.0 |
ProfileDescription | sRGB IEC61966-2.1 |
RedHue | 0 |
RedSaturation | 0 |
Shadows | 0 |
ShadowTint | 0 |
SharpenDetail | 25 |
SharpenEdgeMasking | 0 |
SharpenRadius | +1.0 |
Sharpness | 0 |
Software | Adobe Photoshop CS3 Windows |
SplitToningBalance | 0 |
SplitToningHighlightHue | 0 |
SplitToningHighlightSaturation | 0 |
SplitToningShadowHue | 0 |
SplitToningShadowSaturation | 0 |
Subject | fly, nasca, sør-amerika |
ToneCurve | 0, 0, 32, 22, 64, 56, 128, 128, 192, 196, 255, 255 |
ToneCurveName | Medium Contrast |
Version | 6.1 |
VignetteAmount | +55 |
VignetteMidpoint | 50 |
WhiteBalance | As Shot |