Felt | Verdi |
AlreadyApplied | True |
Aperture | 14.0 |
ApertureValue | 14.0 |
Artist | Tor Erik Anthonsen |
BitsPerSample | 8 |
BlueHue | 0 |
BlueSaturation | 0 |
Brightness | +44 |
By-line | Tor Erik Anthonsen |
CameraProfile | Embedded |
CFAPattern | [Green,Red][Blue,Green] |
ChromaticAberrationB | 0 |
ChromaticAberrationR | 0 |
CircleOfConfusion | 0.020 mm |
Clarity | +52 |
ColorComponents | 3 |
ColorNoiseReduction | 0 |
ColorSpace | Uncalibrated |
Contrast (2) | 0 |
Contrast | Low |
ConvertToGrayscale | False |
Copyright | Copyright (C) Tor Anthonsen |
CopyrightFlag | True |
CopyrightNotice | Copyright © Tor Anthonsen |
CreateDate (1) | 2010:06:03 22:38:05.32+02:00 |
CreateDate | 2010:06:03 22:38:05 |
Creator | Tor Erik Anthonsen |
CreatorAddress | Vardeveien 84 |
CreatorCity | Sandefjord |
CreatorCountry | Norway |
CreatorPostalCode | 3227 |
CreatorRegion | Vestfold |
CreatorTool | Adobe Photoshop Lightroom |
CreatorWorkEmail | ikkenostress@online.no |
CreatorWorkTelephone | 004793881951 |
CropAngle | 0 |
CropBottom | 1 |
CropHeight | 3195 |
CropLeft | 0 |
CropRight | 1 |
CropTop | 0.199566 |
CropUnit | pixels |
CropWidth | 11473 |
CustomRendered | Normal |
DateTimeDigitized | 2010:06:03 22:38:05.32+02:00 |
DateTimeOriginal (1) | 2010:06:03 22:38:05.32+02:00 |
DateTimeOriginal | 2010:06:03 22:38:05 |
Defringe | 0 |
DigitalZoomRatio | 1 |
DOF | inf (17.47 m - inf) |
ExifImageHeight | 3195 |
ExifImageWidth | 11473 |
Exposure | 0.00 |
ExposureCompensation | 0 |
ExposureMode | Auto |
ExposureProgram | Aperture-priority AE |
ExposureTime | 20 |
FillLight | 0 |
Flash | No Flash |
FlashFired | False |
FlashFunction | False |
FlashMode | Unknown |
FlashRedEyeMode | False |
FlashReturn | No return detection |
FNumber | 14.0 |
FocalLength | 70.0 mm |
FocalLength35efl | 70.0 mm (35 mm equivalent: 105.0 mm) |
FocalLengthIn35mmFormat | 105 mm |
Format | application/vnd.adobe.photoshop |
FOV | 19.5 deg |
GainControl | None |
GreenHue | 0 |
GreenSaturation | 0 |
HasCrop | True |
HasSettings | True |
HighlightRecovery | 21 |
HueAdjustmentAqua | 0 |
HueAdjustmentBlue | 0 |
HueAdjustmentGreen | 0 |
HueAdjustmentMagenta | 0 |
HueAdjustmentOrange | 0 |
HueAdjustmentPurple | 0 |
HueAdjustmentRed | 0 |
HueAdjustmentYellow | 0 |
HyperfocalDistance | 17.47 m |
ImageHeight | 3195 |
ImageNumber | 2750 |
ImageSize | 11473x3195 |
ImageWidth | 11473 |
IncrementalTemperature | 0 |
IncrementalTint | 0 |
ISO | 100 |
Keywords | kveld, sandefjord |
Lens | 70.0-300.0 mm f/4.0-5.6 |
LensID (1) | 86 |
LensID | Sigma 70-300mm F4-5.6 APO Macro Super II or AF Zoom-Nikkor 70-300mm f/4-5.6D ED |
LensInfo | 70-300mm f/4-5.6 |
LightSource | Unknown |
LightValue | 3.3 |
LuminanceAdjustmentAqua | 0 |
LuminanceAdjustmentBlue | 0 |
LuminanceAdjustmentGreen | 0 |
LuminanceAdjustmentMagenta | 0 |
LuminanceAdjustmentOrange | 0 |
LuminanceAdjustmentPurple | 0 |
LuminanceAdjustmentRed | 0 |
LuminanceAdjustmentYellow | 0 |
LuminanceSmoothing | 0 |
Make | NIKON CORPORATION |
Marked | True |
MaxApertureValue | 4.0 |
Megapixels | 36.7 |
MeteringMode | Multi-segment |
Model | NIKON D200 |
ModifyDate (1) | 2010:06:04 13:37:19+02:00 |
ModifyDate | 2010:06:04 13:37:19 |
ParametricDarks | 0 |
ParametricHighlights | 0 |
ParametricHighlightSplit | 75 |
ParametricLights | 0 |
ParametricMidtoneSplit | 50 |
ParametricShadows | 0 |
ParametricShadowSplit | 25 |
PostCropVignetteAmount | 0 |
ProfileDescription | sRGB IEC61966-2.1 |
RedHue | 0 |
RedSaturation | 0 |
Rights | Copyright © Tor Anthonsen |
Saturation (2) | +8 |
Saturation | Normal |
SaturationAdjustmentAqua | 0 |
SaturationAdjustmentBlue | 0 |
SaturationAdjustmentGreen | 0 |
SaturationAdjustmentMagenta | 0 |
SaturationAdjustmentOrange | 0 |
SaturationAdjustmentPurple | 0 |
SaturationAdjustmentRed | 0 |
SaturationAdjustmentYellow | 0 |
ScaleFactor35efl | 1.5 |
SceneCaptureType | Standard |
SceneType | Directly photographed |
SensingMethod | One-chip color area |
Shadows | 4 |
ShadowTint | 0 |
SharpenDetail | 25 |
SharpenEdgeMasking | 0 |
SharpenRadius | +1.0 |
Sharpness (2) | 0 |
Sharpness | Soft |
ShutterSpeed | 20 |
ShutterSpeedValue | 20 |
Software | Ver.2.01 |
SplitToningBalance | 0 |
SplitToningHighlightHue | 0 |
SplitToningHighlightSaturation | 0 |
SplitToningShadowHue | 0 |
SplitToningShadowSaturation | 0 |
Subject | kveld, sandefjord |
SubjectDistance | 4294967295 m |
SubjectDistanceRange | Unknown |
ToneCurve | 0, 0, 255, 255 |
ToneCurveName | Linear |
UsageTerms | No reproduction of any kind without prior written |
Version | 5.7 |
Vibrance | +17 |
VignetteAmount | 0 |
WhiteBalance (2) | As Shot |
WhiteBalance | Auto |