Felt | Verdi |
AlreadyApplied | True |
BitsPerSample | 8 |
BlueHue | 0 |
BlueSaturation | 0 |
Brightness | +50 |
CameraProfile | Embedded |
ChromaticAberrationB | 0 |
ChromaticAberrationR | 0 |
Clarity | +50 |
ColorComponents | 3 |
ColorNoiseReduction | 25 |
Contrast | +25 |
ConvertToGrayscale | False |
Copyright | Espen Seierstad |
CopyrightFlag | True |
CopyrightNotice | Espen Seierstad |
CreatorTool | Adobe Photoshop Lightroom |
CropAngle | 0 |
CropBottom | 0.905895 |
CropHeight | 750 |
CropLeft | 0.017391 |
CropRight | 0.878831 |
CropTop | 0.189134 |
CropUnit | pixels |
CropWidth | 600 |
Defringe | 0 |
ExifImageHeight | 600 |
ExifImageWidth | 750 |
Exposure | +0.57 |
FillLight | 24 |
GradientBasedCorrActive | true |
GradientBasedCorrAmount | 1.000000 |
GradientBasedCorrBrightness | 0.000000 |
GradientBasedCorrClarity | 0.000000 |
GradientBasedCorrContrast (3) | 0.000000 |
GradientBasedCorrContrast | -0.975000 |
GradientBasedCorrExposure (1) | -0.475000 |
GradientBasedCorrExposure (2) | -0.250000 |
GradientBasedCorrExposure (3) | -0.300000 |
GradientBasedCorrExposure (4) | -0.150000 |
GradientBasedCorrExposure | -0.275000 |
GradientBasedCorrHue (2) | 230.000000 |
GradientBasedCorrHue | 116.000000 |
GradientBasedCorrMaskFullX (1) | 0.874630 |
GradientBasedCorrMaskFullX (2) | 0.020382 |
GradientBasedCorrMaskFullX (3) | 0.571827 |
GradientBasedCorrMaskFullX (4) | 0.888819 |
GradientBasedCorrMaskFullX (5) | 0.877583 |
GradientBasedCorrMaskFullX | 0.006155 |
GradientBasedCorrMaskFullY (1) | 0.137609 |
GradientBasedCorrMaskFullY (2) | 0.973489 |
GradientBasedCorrMaskFullY (3) | 0.982027 |
GradientBasedCorrMaskFullY (4) | 0.562049 |
GradientBasedCorrMaskFullY (5) | 0.176676 |
GradientBasedCorrMaskFullY | 0.914200 |
GradientBasedCorrMaskValue | 1.000000 |
GradientBasedCorrMaskWhat | Mask/Gradient |
GradientBasedCorrMaskZeroX (1) | 0.201833 |
GradientBasedCorrMaskZeroX (2) | 0.440370 |
GradientBasedCorrMaskZeroX (3) | 0.545565 |
GradientBasedCorrMaskZeroX (4) | 0.650362 |
GradientBasedCorrMaskZeroX (5) | 0.488062 |
GradientBasedCorrMaskZeroX | 0.418148 |
GradientBasedCorrMaskZeroY (1) | 0.210884 |
GradientBasedCorrMaskZeroY (2) | 0.892072 |
GradientBasedCorrMaskZeroY (3) | 0.654784 |
GradientBasedCorrMaskZeroY (4) | 0.565371 |
GradientBasedCorrMaskZeroY (5) | 0.415873 |
GradientBasedCorrMaskZeroY | 0.782144 |
GradientBasedCorrSaturation | 0.000000 |
GradientBasedCorrSharpness | 0.000000 |
GradientBasedCorrWhat | Correction |
GreenHue | 0 |
GreenSaturation | 0 |
HasCrop | True |
HasSettings | True |
HighlightRecovery | 0 |
HueAdjustmentAqua | -5 |
HueAdjustmentBlue | -12 |
HueAdjustmentGreen | 0 |
HueAdjustmentMagenta | 0 |
HueAdjustmentOrange | +2 |
HueAdjustmentPurple | 0 |
HueAdjustmentRed | 0 |
HueAdjustmentYellow | 0 |
ImageHeight | 600 |
ImageSize | 750x600 |
ImageWidth | 750 |
IncrementalTemperature | -12 |
IncrementalTint | -5 |
Keywords | Children, Food, Latin-America, Market, Parents, People, Peru, South America, Trade, Women |
Label | Blue |
LuminanceAdjustmentAqua | +5 |
LuminanceAdjustmentBlue | +43 |
LuminanceAdjustmentGreen | 0 |
LuminanceAdjustmentMagenta | 0 |
LuminanceAdjustmentOrange | 0 |
LuminanceAdjustmentPurple | 0 |
LuminanceAdjustmentRed | -7 |
LuminanceAdjustmentYellow | -5 |
LuminanceSmoothing | 0 |
Make | Nikon |
Marked | True |
Megapixels | 0.450 |
ModifyDate (1) | 2010:05:14 10:26:34+02:00 |
ModifyDate | 2010:05:14 10:26:34 |
PaintCorrectionActive | true |
PaintCorrectionAmount | 1.000000 |
PaintCorrectionBrightness | 0.000000 |
PaintCorrectionClarity | 0.000000 |
PaintCorrectionContrast | 0.000000 |
PaintCorrectionExposure (1) | 0.150000 |
PaintCorrectionExposure (2) | 0.050000 |
PaintCorrectionExposure (4) | -0.150000 |
PaintCorrectionExposure (5) | -0.050000 |
PaintCorrectionExposure | 0.100000 |
PaintCorrectionHue (1) | 230.000000 |
PaintCorrectionHue | 116.000000 |
PaintCorrectionMaskCenterWeight (2) | 0.000000 |
PaintCorrectionMaskCenterWeight | 0.083679 |
PaintCorrectionMaskFlow | 1.000000 |
PaintCorrectionMaskRadius (1) | 0.034575 |
PaintCorrectionMaskRadius | 0.037506 |
PaintCorrectionMaskValue | 1.000000 |
PaintCorrectionMaskWhat | Mask/Paint |
PaintCorrectionSaturation (9) | -0.500000 |
PaintCorrectionSaturation | 0.000000 |
PaintCorrectionSharpness | 0.000000 |
PaintCorrectionWhat | Correction |
ParametricDarks | -7 |
ParametricHighlights | -52 |
ParametricHighlightSplit | 75 |
ParametricLights | -7 |
ParametricMidtoneSplit | 50 |
ParametricShadows | 0 |
ParametricShadowSplit | 25 |
PostCropVignetteAmount | 0 |
ProfileDescription | sRGB IEC61966-2.1 |
Rating | 1 |
RedHue | 0 |
RedSaturation | 0 |
Rights | Espen Seierstad |
Saturation | -52 |
SaturationAdjustmentAqua | 0 |
SaturationAdjustmentBlue | +48 |
SaturationAdjustmentGreen | 0 |
SaturationAdjustmentMagenta | 0 |
SaturationAdjustmentOrange | 0 |
SaturationAdjustmentPurple | 0 |
SaturationAdjustmentRed | 0 |
SaturationAdjustmentYellow | 0 |
Shadows | 2 |
ShadowTint | 0 |
SharpenDetail | 43 |
SharpenEdgeMasking | 60 |
SharpenRadius | +0.7 |
Sharpness | 25 |
SplitToningBalance | +24 |
SplitToningHighlightHue | 64 |
SplitToningHighlightSaturation | 19 |
SplitToningShadowHue | 37 |
SplitToningShadowSaturation | 23 |
Subject | Children, Food, Latin-America, Market, Parents, People, Peru, South America, Trade, Women |
ToneCurve | 0, 0, 32, 22, 64, 56, 128, 128, 192, 196, 255, 255 |
ToneCurveName | Medium Contrast |
Version | 5.7 |
Vibrance | -21 |
VignetteAmount | 0 |
WhiteBalance | Custom |