Felt | Verdi |
AlreadyApplied | True |
Aperture | 9.0 |
ApertureValue | 9.0 |
BitsPerSample | 8 |
BlueHue | 0 |
BlueSaturation | 0 |
Brightness | 0 |
CameraProfile | Embedded |
ChromaticAberrationB | 0 |
ChromaticAberrationR | 0 |
CircleOfConfusion | 0.019 mm |
Clarity | +19 |
ColorComponents | 3 |
ColorNoiseReduction | 60 |
Contrast | +27 |
ConvertToGrayscale | False |
CreateDate (1) | 2009:08:29 11:04:27.00+02:00 |
CreateDate | 2009:08:29 11:04:27 |
CreatorTool | Adobe Photoshop Lightroom |
CropAngle | 0 |
CropBottom | 0.997522 |
CropHeight | 640 |
CropLeft | 0.001321 |
CropRight | 0.816348 |
CropTop | 0.019487 |
CropUnit | pixels |
CropWidth | 800 |
CustomRendered | Normal |
DateTimeDigitized | 2009:08:29 11:04:27.00+02:00 |
DateTimeOriginal (1) | 2009:08:29 11:04:27.00+02:00 |
DateTimeOriginal | 2009:08:29 11:04:27 |
Defringe | 0 |
ExifImageHeight | 640 |
ExifImageWidth | 800 |
Exposure | 0.00 |
ExposureCompensation | 0 |
ExposureMode | Auto |
ExposureProgram | Aperture-priority AE |
ExposureTime | 1/1000 |
FillLight | 0 |
Firmware | 1.0.8 |
Flash | Off, Did not fire |
FlashCompensation | 0 |
FlashFired | False |
FlashFunction | False |
FlashMode | Off |
FlashRedEyeMode | False |
FlashReturn | No return detection |
FNumber | 9.0 |
FocalLength | 10.0 mm |
FocalLength35efl | 10.0 mm (35 mm equivalent: 16.2 mm) |
FOV | 96.1 deg |
GradientBasedCorrActive | true |
GradientBasedCorrAmount | 1.000000 |
GradientBasedCorrBrightness (1) | -0.250000 |
GradientBasedCorrBrightness | -0.025000 |
GradientBasedCorrClarity (1) | 0.000000 |
GradientBasedCorrClarity | 0.300000 |
GradientBasedCorrContrast (1) | 0.525000 |
GradientBasedCorrContrast | 0.000000 |
GradientBasedCorrExposure (1) | -0.525000 |
GradientBasedCorrExposure | 0.100000 |
GradientBasedCorrHue (1) | 230.000000 |
GradientBasedCorrHue | 44.000000 |
GradientBasedCorrMaskFullX (1) | 0.428126 |
GradientBasedCorrMaskFullX | 0.458090 |
GradientBasedCorrMaskFullY (1) | 0.000589 |
GradientBasedCorrMaskFullY | 0.718462 |
GradientBasedCorrMaskValue | 1.000000 |
GradientBasedCorrMaskWhat | Mask/Gradient |
GradientBasedCorrMaskZeroX (1) | 0.426685 |
GradientBasedCorrMaskZeroX | 0.462794 |
GradientBasedCorrMaskZeroY (1) | 0.409278 |
GradientBasedCorrMaskZeroY | 0.368940 |
GradientBasedCorrSaturation (1) | 0.000000 |
GradientBasedCorrSaturation (2) | 1.000000 |
GradientBasedCorrSaturation (3) | 0.250000 |
GradientBasedCorrSaturation | 0.480000 |
GradientBasedCorrSharpness (1) | 0.225000 |
GradientBasedCorrSharpness | 0.350000 |
GradientBasedCorrWhat | Correction |
GreenHue | 0 |
GreenSaturation | 0 |
HasCrop | True |
HasSettings | True |
HighlightRecovery | 0 |
HueAdjustmentAqua | 0 |
HueAdjustmentBlue | 0 |
HueAdjustmentGreen | 0 |
HueAdjustmentMagenta | 0 |
HueAdjustmentOrange | 0 |
HueAdjustmentPurple | 0 |
HueAdjustmentRed | 0 |
HueAdjustmentYellow | 0 |
HyperfocalDistance | 0.60 m |
ImageHeight | 640 |
ImageNumber | 0 |
ImageSize | 800x640 |
ImageWidth | 800 |
IncrementalTemperature | 0 |
IncrementalTint | +17 |
ISO | 800 |
Keywords | Buahaugen |
Lens | EF-S10-22mm f/3.5-4.5 USM |
LensInfo | 10-22mm f/? |
LightValue | 13.3 |
LuminanceAdjustmentAqua | 0 |
LuminanceAdjustmentBlue | +24 |
LuminanceAdjustmentGreen | 0 |
LuminanceAdjustmentMagenta | 0 |
LuminanceAdjustmentOrange | 0 |
LuminanceAdjustmentPurple | 0 |
LuminanceAdjustmentRed | 0 |
LuminanceAdjustmentYellow | 0 |
LuminanceSmoothing | 90 |
Make | Canon |
MaxApertureValue | 3.5 |
Megapixels | 0.512 |
MeteringMode | Multi-segment |
Model | Canon EOS 40D |
ModifyDate (1) | 2009:10:19 21:10:25+02:00 |
ModifyDate | 2009:10:19 21:10:25 |
PaintCorrectionActive | true |
PaintCorrectionAmount | 1.000000 |
PaintCorrectionBrightness | -0.300000 |
PaintCorrectionClarity | 0.000000 |
PaintCorrectionContrast | 0.000000 |
PaintCorrectionExposure | -0.225000 |
PaintCorrectionHue | 230.000000 |
PaintCorrectionMaskCenterWeight | 0.014927 |
PaintCorrectionMaskFlow | 0.332000 |
PaintCorrectionMaskRadius | 0.056169 |
PaintCorrectionMaskValue | 0.825000 |
PaintCorrectionMaskWhat | Mask/Paint |
PaintCorrectionSaturation (1) | 0.000000 |
PaintCorrectionSaturation | 1.000000 |
PaintCorrectionSharpness | 0.000000 |
PaintCorrectionWhat | Correction |
ParametricDarks | 0 |
ParametricHighlights | 0 |
ParametricHighlightSplit | 75 |
ParametricLights | 0 |
ParametricMidtoneSplit | 50 |
ParametricShadows | 0 |
ParametricShadowSplit | 25 |
PostCropVignetteAmount | 0 |
ProfileDescription | sRGB IEC61966-2.1 |
RedHue | 0 |
RedSaturation | 0 |
Saturation | +5 |
SaturationAdjustmentAqua | 0 |
SaturationAdjustmentBlue | 0 |
SaturationAdjustmentGreen | 0 |
SaturationAdjustmentMagenta | 0 |
SaturationAdjustmentOrange | 0 |
SaturationAdjustmentPurple | 0 |
SaturationAdjustmentRed | 0 |
SaturationAdjustmentYellow | 0 |
ScaleFactor35efl | 1.6 |
SceneCaptureType | Standard |
SerialNumber | 1430732253 |
Shadows | 1 |
ShadowTint | 0 |
SharpenDetail | 25 |
SharpenEdgeMasking | 0 |
SharpenRadius | +1.0 |
Sharpness | 68 |
ShutterSpeed | 1/1000 |
ShutterSpeedValue | 1/1000 |
SplitToningBalance | 0 |
SplitToningHighlightHue | 0 |
SplitToningHighlightSaturation | 0 |
SplitToningShadowHue | 0 |
SplitToningShadowSaturation | 0 |
Subject | Buahaugen |
ToneCurve | 0, 0, 255, 255 |
ToneCurveName | Linear |
Version | 5.2 |
Vibrance | 0 |
VignetteAmount | 0 |
WhiteBalance (2) | Custom |
WhiteBalance | Auto |