Felt | Verdi |
AlreadyApplied | True |
Aperture | 4.0 |
ApertureValue | 4.0 |
BitsPerSample | 8 |
BlueHue | 0 |
BlueSaturation | 0 |
Brightness | +14 |
CameraProfile | Embedded |
ChromaticAberrationB | 0 |
ChromaticAberrationR | 0 |
CircleOfConfusion | 0.019 mm |
Clarity | +50 |
ColorComponents | 1 |
ColorNoiseReduction | 25 |
Contrast | -8 |
ConvertToGrayscale | True |
CreateDate (1) | 2009:01:11 13:38:45.01+01:00 |
CreateDate | 2009:01:11 13:38:45 |
CreatorTool | Adobe Photoshop Lightroom |
CropAngle | 0.124286 |
CropBottom | 0.999059 |
CropHeight | 720 |
CropLeft | 0.180528 |
CropRight | 0.998755 |
CropTop | 0.135168 |
CropUnit | pixels |
CropWidth | 1028 |
CustomRendered | Normal |
DateTimeDigitized | 2009:01:11 13:38:45.01+01:00 |
DateTimeOriginal (1) | 2009:01:11 13:38:45.01+01:00 |
DateTimeOriginal | 2009:01:11 13:38:45 |
Defringe | 0 |
ExifImageHeight | 720 |
ExifImageWidth | 1028 |
Exposure | 0.00 |
ExposureCompensation | 0 |
ExposureMode | Manual |
ExposureProgram | Manual |
ExposureTime | 1/50 |
FillLight | 0 |
Firmware | 1.0.8 |
Flash | Off, Did not fire |
FlashCompensation | 0 |
FlashFired | False |
FlashFunction | False |
FlashMode | Off |
FlashRedEyeMode | False |
FlashReturn | No return detection |
FNumber | 4.0 |
FocalLength | 32.0 mm |
FocalLength35efl | 32.0 mm (35 mm equivalent: 51.8 mm) |
FOV | 38.3 deg |
GrayMixerAqua | -18 |
GrayMixerBlue | +9 |
GrayMixerGreen | -27 |
GrayMixerMagenta | +4 |
GrayMixerOrange | -19 |
GrayMixerPurple | +15 |
GrayMixerRed | -10 |
GrayMixerYellow | -22 |
GreenHue | 0 |
GreenSaturation | 0 |
HasCrop | True |
HasSettings | True |
HighlightRecovery | 3 |
HyperfocalDistance | 13.79 m |
ImageHeight | 720 |
ImageNumber | 0 |
ImageSize | 1028x720 |
ImageWidth | 1028 |
IncrementalTemperature | +2 |
IncrementalTint | -9 |
ISO | 400 |
Keywords | Fagernes vinter |
Lens | EF17-40mm f/4L USM |
LensInfo | 17-40mm f/? |
LightValue | 7.6 |
LuminanceSmoothing | 0 |
Make | Canon |
MaxApertureValue | 4.0 |
Megapixels | 0.740 |
MeteringMode | Multi-segment |
Model | Canon EOS 40D |
ModifyDate (1) | 2009:01:11 18:06:02+01:00 |
ModifyDate | 2009:01:11 18:06:02 |
ParametricDarks | -12 |
ParametricHighlights | 0 |
ParametricHighlightSplit | 75 |
ParametricLights | -36 |
ParametricMidtoneSplit | 50 |
ParametricShadows | 0 |
ParametricShadowSplit | 25 |
PostCropVignetteAmount | 0 |
ProfileDescription | sRGB IEC61966-2.1 |
RedHue | 0 |
RedSaturation | 0 |
ScaleFactor35efl | 1.6 |
SceneCaptureType | Standard |
SerialNumber | 1430732253 |
Shadows | 1 |
ShadowTint | 0 |
SharpenDetail | 50 |
SharpenEdgeMasking | 0 |
SharpenRadius | +1.0 |
Sharpness | 43 |
ShutterSpeed | 1/50 |
ShutterSpeedValue | 1/50 |
SplitToningBalance | 0 |
SplitToningHighlightHue | 51 |
SplitToningHighlightSaturation | 0 |
SplitToningShadowHue | 0 |
SplitToningShadowSaturation | 0 |
Subject | Fagernes vinter |
ToneCurve | 0, 0, 255, 255 |
ToneCurveName | Linear |
Version | 5.2 |
VignetteAmount | 0 |
WhiteBalance | Auto |