Felt | Verdi |
AlreadyApplied | True |
Aperture | 5.6 |
ApertureValue | 5.6 |
BitsPerSample | 8 |
BlueHue | 0 |
BlueSaturation | 0 |
Brightness | +50 |
CameraProfile | ACR 3.6 |
CFAPattern | [Green,Blue][Red,Green] |
ChromaticAberrationB | 0 |
ChromaticAberrationR | 0 |
CircleOfConfusion | 0.020 mm |
Clarity | 100 |
ColorComponents | 3 |
ColorMode | RGB |
ColorNoiseReduction | 25 |
ColorSpace | Uncalibrated |
ColorTemperature | 2950 |
Contrast (2) | +25 |
Contrast | Normal |
ConvertToGrayscale | False |
CopyrightFlag | False |
CreateDate (1) | 2008:11:23 21:23:25+01:00 |
CreateDate | 2008:11:23 20:20:43 |
CreatorTool | Adobe Photoshop CS4 (11.0x20071101 [20071101.m.190 2007/11/01:02:00:00 cutoff; m branch]) Windows |
CustomRendered | Normal |
DateTimeDigitized | 2008:11:23 20:20:43.40+01:00 |
DateTimeOriginal (1) | 2008:11:23 20:20:43.40+01:00 |
DateTimeOriginal | 2008:11:23 20:20:43 |
Defringe | 0 |
DigitalZoomRatio | 1 |
ExifImageHeight | 3872 |
ExifImageWidth | 2592 |
Exposure | +1.60 |
ExposureCompensation | 0 |
ExposureMode | Manual |
ExposureProgram | Manual |
ExposureTime | 30 |
FillLight | 0 |
Flash | No Flash |
FlashFired | False |
FlashFunction | False |
FlashMode | Unknown |
FlashRedEyeMode | False |
FlashReturn | No return detection |
FNumber | 5.6 |
FocalLength | 135.0 mm |
FocalLength35efl | 135.0 mm (35 mm equivalent: 202.0 mm) |
FocalLengthIn35mmFormat | 202 mm |
Format | image/jpeg |
FOV | 10.2 deg |
GainControl | None |
GreenHue | 0 |
GreenSaturation | 0 |
HasCrop | False |
HasSettings | True |
HighlightRecovery | 0 |
HueAdjustmentAqua | 0 |
HueAdjustmentBlue | 0 |
HueAdjustmentGreen | 0 |
HueAdjustmentMagenta | 0 |
HueAdjustmentOrange | 0 |
HueAdjustmentPurple | 0 |
HueAdjustmentRed | 0 |
HueAdjustmentYellow | 0 |
HyperfocalDistance | 162.07 m |
ICCProfileName | Adobe RGB (1998) |
ImageHeight | 3872 |
ImageNumber | 3544 |
ImageSize | 2592x3872 |
ImageWidth | 2592 |
ISO | 100 |
Lens | 18.0-135.0 mm f/3.5-5.6 |
LensInfo | 18-135mm f/3.5-5.6 |
LightSource | Unknown |
LightValue | 0.1 |
LuminanceAdjustmentAqua | 0 |
LuminanceAdjustmentBlue | 0 |
LuminanceAdjustmentGreen | 0 |
LuminanceAdjustmentMagenta | 0 |
LuminanceAdjustmentOrange | 0 |
LuminanceAdjustmentPurple | 0 |
LuminanceAdjustmentRed | 0 |
LuminanceAdjustmentYellow | 0 |
LuminanceSmoothing | 0 |
Make | NIKON CORPORATION |
MaxApertureValue | 5.7 |
Megapixels | 10.0 |
MeteringMode | Spot |
Model | NIKON D80 |
ModifyDate (1) | 2008:11:23 21:23:25+01:00 |
ModifyDate | 2008:11:23 21:23:25 |
Orientation | Horizontal (normal) |
ParametricDarks | +5 |
ParametricHighlights | +15 |
ParametricHighlightSplit | 75 |
ParametricLights | +2 |
ParametricMidtoneSplit | 50 |
ParametricShadows | 0 |
ParametricShadowSplit | 25 |
ProfileDescription | Adobe RGB (1998) |
Rating | 0 |
RawFileName | Photography in Snow 021.NEF |
RedHue | 0 |
RedSaturation | 0 |
Saturation (2) | +6 |
Saturation | Normal |
SaturationAdjustmentAqua | 0 |
SaturationAdjustmentBlue | 0 |
SaturationAdjustmentGreen | 0 |
SaturationAdjustmentMagenta | 0 |
SaturationAdjustmentOrange | 0 |
SaturationAdjustmentPurple | 0 |
SaturationAdjustmentRed | 0 |
SaturationAdjustmentYellow | 0 |
ScaleFactor35efl | 1.5 |
SceneCaptureType | Standard |
SceneType | Directly photographed |
SensingMethod | One-chip color area |
Shadows | 5 |
ShadowTint | 0 |
SharpenDetail | 25 |
SharpenEdgeMasking | 0 |
SharpenRadius | +1.0 |
Sharpness (2) | 25 |
Sharpness | Soft |
ShutterSpeed | 30 |
ShutterSpeedValue | 30 |
SidecarForExtension | NEF |
Software | Adobe Photoshop CS4 (11.0x20071101 [20071101.m.190 2007/11/01:02:00:00 cutoff; m branch]) Windows |
SplitToningBalance | 0 |
SplitToningHighlightHue | 0 |
SplitToningHighlightSaturation | 0 |
SplitToningShadowHue | 0 |
SplitToningShadowSaturation | 0 |
SubjectDistanceRange | Unknown |
Tint | 0 |
ToneCurve | 0, 0, 32, 22, 64, 56, 128, 128, 192, 196, 255, 255 |
ToneCurveName | Medium Contrast |
URL_List | |
Version | 5.0x27 |
Vibrance | +50 |
VignetteAmount | 0 |
WhiteBalance (2) | Custom |
WhiteBalance | Auto |