Felt | Verdi |
AlreadyApplied | True |
Aperture | 11.0 |
ApertureValue | 11.0 |
BitsPerSample | 8 |
BlueHue | 0 |
BlueSaturation | 0 |
Brightness | +50 |
CameraProfile | Adobe Standard beta 1 |
Caption-Abstract | Glafsfjorden, Varmland, Sweden |
CFAPattern | [Red,Green][Green,Blue] |
ChromaticAberrationB | 0 |
ChromaticAberrationR | 0 |
CircleOfConfusion | 0.030 mm |
Clarity | +50 |
ColorComponents | 3 |
ColorNoiseReduction | 25 |
ColorTemperature | 4450 |
Contrast (2) | +25 |
Contrast | Normal |
ConvertToGrayscale | False |
CreateDate (1) | 2008:08:16 22:16:02.00+02:00 |
CreateDate | 2008:08:16 22:16:02 |
CreatorTool | Adobe Photoshop Lightroom |
CropAngle | 3.39164 |
CropBottom | 0.999493 |
CropHeight | 971 |
CropLeft | 0.035873 |
CropRight | 0.935312 |
CropTop | 0.006527 |
CropUnit | pixels |
CropWidth | 1500 |
CustomRendered | Normal |
DateTimeDigitized | 2008:08:16 22:16:02.00+02:00 |
DateTimeOriginal (1) | 2008:08:16 22:16:02.00+02:00 |
DateTimeOriginal | 2008:08:16 22:16:02 |
Defringe | 0 |
Description | Glafsfjorden, Varmland, Sweden |
DigitalZoomRatio | 1 |
ExifImageHeight | 1500 |
ExifImageWidth | 971 |
Exposure | +0.48 |
ExposureCompensation | 0 |
ExposureMode | Manual |
ExposureProgram | Manual |
ExposureTime | 25 |
FillLight | 33 |
Flash | No Flash |
FlashFired | False |
FlashFunction | False |
FlashMode | Unknown |
FlashRedEyeMode | False |
FlashReturn | No return detection |
FNumber | 11.0 |
FocalLength | 14.0 mm |
FocalLength35efl | 14.0 mm (35 mm equivalent: 14.0 mm) |
FocalLengthIn35mmFormat | 14 mm |
FOV | 104.3 deg |
GainControl | None |
GPSAltitude (2) | 46 m |
GPSAltitude | 46 m Above Sea Level |
GPSAltitudeRef | Above Sea Level |
GPSDateStamp | 2008:08:16 |
GPSDateTime | 2008:08:16 20:15:23Z |
GPSLatitude (2) | 59 deg 38' 57.48" |
GPSLatitude | 59 deg 38' 57.48" N |
GPSLatitudeRef | North |
GPSLongitude (2) | 12 deg 30' 49.29" |
GPSLongitude | 12 deg 30' 49.29" E |
GPSLongitudeRef | East |
GPSPosition | 59 deg 38' 57.48" N, 12 deg 30' 49.29" E |
GPSSatellites | 11 |
GPSTimeStamp | 20:15:23 |
GPSVersionID | 2.2.0.0 |
GreenHue | 0 |
GreenSaturation | 0 |
HasCrop | True |
HasSettings | True |
HighlightRecovery | 0 |
HueAdjustmentAqua | 0 |
HueAdjustmentBlue | 0 |
HueAdjustmentGreen | 0 |
HueAdjustmentMagenta | 0 |
HueAdjustmentOrange | 0 |
HueAdjustmentPurple | 0 |
HueAdjustmentRed | 0 |
HueAdjustmentYellow | 0 |
HyperfocalDistance | 0.59 m |
ImageDescription | Glafsfjorden, Varmland, Sweden |
ImageHeight | 1500 |
ImageNumber | 1003 |
ImageSize | 971x1500 |
ImageWidth | 971 |
ISO | 200 |
Keywords | Arvika, Mastvika, Natur, Sverige, Sweden, d700, kveld, natt, nature, night |
Lens | 14.0-24.0 mm f/2.8 |
LensInfo | 14-24mm f/2.8 |
LightSource | Unknown |
LightValue | 1.3 |
LuminanceAdjustmentAqua | 0 |
LuminanceAdjustmentBlue | 0 |
LuminanceAdjustmentGreen | 0 |
LuminanceAdjustmentMagenta | 0 |
LuminanceAdjustmentOrange | 0 |
LuminanceAdjustmentPurple | 0 |
LuminanceAdjustmentRed | 0 |
LuminanceAdjustmentYellow | 0 |
LuminanceSmoothing | 52 |
Make | NIKON CORPORATION |
MaxApertureValue | 2.8 |
Megapixels | 1.5 |
MeteringMode | Multi-segment |
Model | NIKON D700 |
ModifyDate (1) | 2008:08:18 22:15:58+02:00 |
ModifyDate | 2008:08:18 22:15:58 |
ObjectName | Big sky |
ParametricDarks | 0 |
ParametricHighlights | 0 |
ParametricHighlightSplit | 75 |
ParametricLights | 0 |
ParametricMidtoneSplit | 50 |
ParametricShadows | 0 |
ParametricShadowSplit | 25 |
PostCropVignetteAmount | 0 |
ProfileDescription | sRGB IEC61966-2.1 |
RedHue | 0 |
RedSaturation | 0 |
Saturation (2) | 0 |
Saturation | Normal |
SaturationAdjustmentAqua | 0 |
SaturationAdjustmentBlue | 0 |
SaturationAdjustmentGreen | 0 |
SaturationAdjustmentMagenta | 0 |
SaturationAdjustmentOrange | 0 |
SaturationAdjustmentPurple | 0 |
SaturationAdjustmentRed | 0 |
SaturationAdjustmentYellow | 0 |
ScaleFactor35efl | 1.0 |
SceneCaptureType | Standard |
SceneType | Directly photographed |
SensingMethod | One-chip color area |
SerialNumber | 2005085 |
Shadows | 0 |
ShadowTint | 0 |
SharpenDetail | 25 |
SharpenEdgeMasking | 0 |
SharpenRadius | +1.0 |
Sharpness (2) | 25 |
Sharpness | Normal |
ShutterSpeed | 25 |
ShutterSpeedValue | 25 |
Software | Ver.1.00 |
SplitToningBalance | 0 |
SplitToningHighlightHue | 0 |
SplitToningHighlightSaturation | 0 |
SplitToningShadowHue | 0 |
SplitToningShadowSaturation | 0 |
Subject | Arvika, Mastvika, Natur, Sverige, Sweden, d700, kveld, natt, nature, night |
SubjectDistanceRange | Unknown |
Tint | -13 |
Title | Big sky |
ToneCurve | 0, 0, 32, 22, 64, 56, 128, 128, 192, 196, 255, 255 |
ToneCurveName | Medium Contrast |
Version | 4.5 |
Vibrance | +25 |
VignetteAmount | 0 |
WhiteBalance (2) | As Shot |
WhiteBalance | Auto |