Felt | Verdi |
AlreadyApplied | True |
Aperture | 4.8 |
ApertureValue | 4.8 |
AutoLateralCA | 1 |
BitsPerSample | 8 |
Blacks2012 | -50 |
BlueHue | 0 |
BlueSaturation | 0 |
CameraProfile | Adobe Standard |
CircleOfConfusion | 0.030 mm |
Clarity2012 | +19 |
ColorComponents | 3 |
ColorNoiseReduction | 25 |
ColorNoiseReductionDetail | 50 |
ColorNoiseReductionSmoothness | 50 |
ColorSpace | sRGB |
ColorTemperature | 5100 |
ColorTransform | YCbCr |
Contrast | Normal |
Contrast2012 | +7 |
ConvertToGrayscale | False |
CreateDate (1) | 2021:08:17 20:31:15+02:00 |
CreateDate | 2021:08:17 20:31:15 |
CreatorTool | Adobe Photoshop Lightroom Classic 9.3 (Macintosh) |
CropAngle | 0 |
CropBottom | 0.62113 |
CropConstrainToWarp | 0 |
CropLeft | 0.37887 |
CropRight | 0.617603 |
CropTop | 0.382397 |
CustomRendered | Normal |
DateCreated (1) | 2021:08:17 |
DateCreated | 2021:08:17 20:31:15+02:00 |
DateTimeOriginal | 2021:08:17 20:31:15 |
DefringeGreenAmount | 0 |
DefringeGreenHueHi | 60 |
DefringeGreenHueLo | 40 |
DefringePurpleAmount | 0 |
DefringePurpleHueHi | 70 |
DefringePurpleHueLo | 30 |
Dehaze | 0 |
Exposure2012 | -0.35 |
ExposureCompensation | -1 |
ExposureProgram | Program AE |
ExposureTime | 1/750 |
Flash | Off, Did not fire |
FNumber | 4.8 |
FocalLength | 280.0 mm |
FocalLength35efl | 280.0 mm (35 mm equivalent: 280.0 mm) |
FocalLengthIn35mmFormat | 280 mm |
Format | image/jpeg |
FOV | 7.4 deg |
GrainAmount | 0 |
GreenHue | 0 |
GreenSaturation | 0 |
HasCrop | True |
HasSettings | True |
Highlights2012 | -25 |
HueAdjustmentAqua | 0 |
HueAdjustmentBlue | 0 |
HueAdjustmentGreen | 0 |
HueAdjustmentMagenta | 0 |
HueAdjustmentOrange | 0 |
HueAdjustmentPurple | 0 |
HueAdjustmentRed | 0 |
HueAdjustmentYellow | 0 |
HyperfocalDistance | 543.61 m |
ImageHeight | 2666 |
ImageSize | 3995x2666 |
ImageWidth | 3995 |
ISO | 100 |
LateralChromaticAberrationCorrectionAlreadyApplied | True |
Lens | APO-VARIO-ELMARIT-SL 1:2.8-4/90-280 |
LensInfo | 90-280mm f/3.0703125-3 |
LensMake | LEICA CAMERA AG |
LensManualDistortionAmount | 0 |
LensModel | APO-VARIO-ELMARIT-SL 1:2.8-4/90-280 |
LensProfileEnable | 0 |
LensProfileSetup | LensDefaults |
LensSerialNumber | 4575457 |
LightSource | Unknown |
LightValue | 14.1 |
LookAmount | 1.000000 |
LookGroup | Profiles |
LookName | Adobe Color |
LookParametersCameraProfile | Adobe Standard |
LookParametersConvertToGrayscale | False |
LookParametersLookTable | E1095149FDB39D7A057BAB208837E2E1 |
LookParametersProcessVersion | 11.0 |
LookParametersToneCurvePV2012 | 0, 0, 22, 16, 40, 35, 127, 127, 224, 230, 240, 246, 255, 255 |
LookParametersToneCurvePV2012Blue | 0, 0, 255, 255 |
LookParametersToneCurvePV2012Green | 0, 0, 255, 255 |
LookParametersToneCurvePV2012Red | 0, 0, 255, 255 |
LookParametersVersion | 12.3 |
LookSupportsAmount | false |
LookSupportsMonochrome | false |
LookSupportsOutputReferred | false |
LuminanceAdjustmentAqua | 0 |
LuminanceAdjustmentBlue | 0 |
LuminanceAdjustmentGreen | 0 |
LuminanceAdjustmentMagenta | 0 |
LuminanceAdjustmentOrange | 0 |
LuminanceAdjustmentPurple | 0 |
LuminanceAdjustmentRed | 0 |
LuminanceAdjustmentYellow | 0 |
LuminanceSmoothing | 0 |
Make | LEICA CAMERA AG |
MaxApertureValue | 2.9 |
Megapixels | 10.7 |
MeteringMode | Spot |
Model | LEICA SL2 |
ModifyDate (1) | 2021:08:17 21:56:26+02:00 |
ModifyDate | 2021:08:17 21:56:26 |
OverrideLookVignette | False |
ParametricDarks | -19 |
ParametricHighlights | 0 |
ParametricHighlightSplit | 75 |
ParametricLights | +60 |
ParametricMidtoneSplit | 50 |
ParametricShadows | 0 |
ParametricShadowSplit | 25 |
PerspectiveAspect | 0 |
PerspectiveHorizontal | 0 |
PerspectiveRotate | 0.0 |
PerspectiveScale | 100 |
PerspectiveUpright | 0 |
PerspectiveVertical | 0 |
PerspectiveX | 0.00 |
PerspectiveY | 0.00 |
PostCropVignetteAmount | 0 |
PreservedFileName | L1160545.DNG |
ProcessVersion | 11.0 |
ProfileDescription | sRGB IEC61966-2.1 |
RawFileName | |
RedHue | 0 |
RedSaturation | 0 |
Saturation (1) | +3 |
Saturation | Normal |
SaturationAdjustmentAqua | 0 |
SaturationAdjustmentBlue | 0 |
SaturationAdjustmentGreen | 0 |
SaturationAdjustmentMagenta | 0 |
SaturationAdjustmentOrange | 0 |
SaturationAdjustmentPurple | 0 |
SaturationAdjustmentRed | 0 |
SaturationAdjustmentYellow | 0 |
ScaleFactor35efl | 1.0 |
SceneCaptureType | Standard |
SensingMethod | One-chip color area |
SensitivityType | Standard Output Sensitivity |
SerialNumber | 5556265 |
Shadows2012 | +80 |
ShadowTint | 0 |
SharpenDetail | 25 |
SharpenEdgeMasking | 0 |
SharpenRadius | +1.0 |
Sharpness (1) | 40 |
Sharpness | Normal |
ShutterSpeed | 1/750 |
ShutterSpeedValue | 1/750 |
Software | Adobe Photoshop Lightroom Classic 9.3 (Macintosh) |
SplitToningBalance | 0 |
SplitToningHighlightHue | 0 |
SplitToningHighlightSaturation | 0 |
SplitToningShadowHue | 0 |
SplitToningShadowSaturation | 0 |
StandardOutputSensitivity | 100 |
Texture | +29 |
Tint | +16 |
ToneCurve | 0, 0, 255, 255 |
ToneCurveBlue | 0, 0, 255, 255 |
ToneCurveGreen | 0, 0, 255, 255 |
ToneCurveName | Linear |
ToneCurveName2012 | Linear |
ToneCurvePV2012 | 0, 0, 255, 255 |
ToneCurvePV2012Blue | 0, 0, 255, 255 |
ToneCurvePV2012Green | 0, 0, 255, 255 |
ToneCurvePV2012Red | 0, 0, 255, 255 |
ToneCurveRed | 0, 0, 255, 255 |
ToneMapStrength | 0 |
Version | 12.3 |
Vibrance | +15 |
VignetteAmount | 0 |
WhiteBalance (1) | As Shot |
WhiteBalance | Auto |
Whites2012 | +50 |