Felt | Verdi |
AlreadyApplied | True |
Aperture | 1.4 |
ApertureValue | 1.4 |
ApproximateFocusDistance | 5.62 |
AutoLateralCA | 1 |
BitsPerSample | 8 |
Blacks2012 | +13 |
BlueHue | 0 |
BlueSaturation | 0 |
CameraProfile | Camera Portrait |
CFAPattern | [Red,Green][Green,Blue] |
CircleOfConfusion | 0.030 mm |
Clarity2012 | 0 |
ColorComponents | 3 |
ColorMode | RGB |
ColorNoiseReduction | 25 |
ColorNoiseReductionDetail | 50 |
ColorSpace | sRGB |
ColorTemperature | 5450 |
ColorTransform | YCbCr |
Contrast | Normal |
Contrast2012 | 0 |
ConvertToGrayscale | False |
CreateDate | 2018:03:05 17:21:41 |
CreatorTool | Ver.1.01 |
CustomRendered | Normal |
DateCreated (1) | 2018:03:05 |
DateCreated | 2018:03:05 17:21:41.008 |
DateTimeOriginal | 2018:03:05 17:21:41 |
DefringeGreenAmount | 3 |
DefringeGreenHueHi | 60 |
DefringeGreenHueLo | 40 |
DefringePurpleAmount | 4 |
DefringePurpleHueHi | 70 |
DefringePurpleHueLo | 30 |
DigitalZoomRatio | 1 |
DOF | 0.36 m (5.44 - 5.81 m) |
ExifImageHeight | 3501 |
ExifImageWidth | 3500 |
Exposure2012 | 0.00 |
ExposureCompensation | 0 |
ExposureMode | Manual |
ExposureProgram | Manual |
ExposureTime | 1/4000 |
Flash | Off, Did not fire |
FNumber | 1.4 |
FocalLength | 85.0 mm |
FocalLength35efl | 85.0 mm (35 mm equivalent: 85.0 mm) |
FocalLengthIn35mmFormat | 85 mm |
Format | image/jpeg |
FOV | 23.9 deg |
GainControl | None |
GrainAmount | 0 |
GreenHue | 0 |
GreenSaturation | 0 |
HasCrop | False |
HasSettings | True |
Highlights2012 | -14 |
HueAdjustmentAqua | 0 |
HueAdjustmentBlue | 0 |
HueAdjustmentGreen | 0 |
HueAdjustmentMagenta | 0 |
HueAdjustmentOrange | 0 |
HueAdjustmentPurple | 0 |
HueAdjustmentRed | 0 |
HueAdjustmentYellow | 0 |
HyperfocalDistance | 171.76 m |
ICCProfileName | sRGB IEC61966-2.1 |
ImageHeight | 3501 |
ImageNumber | 81666 |
ImageSize | 3500x3501 |
ImageWidth | 3500 |
ISO | 250 |
Lens | 85.0 mm f/1.4 |
LensID (1) | 174 |
LensID | AF-S Nikkor 85mm f/1.4G |
LensInfo | 85mm f/1.4 |
LensManualDistortionAmount | 0 |
LensModel | 85.0 mm f/1.4 |
LensProfileChromaticAberrationScale | 100 |
LensProfileDistortionScale | 100 |
LensProfileEnable | 1 |
LensProfileFilename | NIKON D3X (Nikon AF-S NIKKOR 85mm f1.4G) - RAW.lcp |
LensProfileName | Adobe (Nikon AF-S NIKKOR 85mm f/1.4G) |
LensProfileSetup | LensDefaults |
LensProfileVignettingScale | 100 |
LightSource | Unknown |
LightValue | 11.6 |
LuminanceAdjustmentAqua | 0 |
LuminanceAdjustmentBlue | 0 |
LuminanceAdjustmentGreen | 0 |
LuminanceAdjustmentMagenta | 0 |
LuminanceAdjustmentOrange | 0 |
LuminanceAdjustmentPurple | 0 |
LuminanceAdjustmentRed | 0 |
LuminanceAdjustmentYellow | 0 |
LuminanceSmoothing | 0 |
Make | NIKON CORPORATION |
MaxApertureValue | 1.4 |
Megapixels | 12.3 |
MeteringMode | Spot |
Model | NIKON D800 |
ModifyDate (1) | 2018:03:25 18:48:28+02:00 |
ModifyDate | 2018:03:25 18:48:28 |
Orientation | Horizontal (normal) |
ParametricDarks | 0 |
ParametricHighlights | 0 |
ParametricHighlightSplit | 75 |
ParametricLights | 0 |
ParametricMidtoneSplit | 50 |
ParametricShadows | 0 |
ParametricShadowSplit | 25 |
PerspectiveHorizontal | 0 |
PerspectiveRotate | 0.0 |
PerspectiveScale | 100 |
PerspectiveVertical | 0 |
PostCropVignetteAmount | 0 |
ProcessVersion | 6.7 |
ProfileDescription | sRGB IEC61966-2.1 |
Rating | 0 |
RawFileName | DSC_1038.NEF |
RedHue | 0 |
RedSaturation | 0 |
Saturation (1) | 0 |
Saturation | Normal |
SaturationAdjustmentAqua | 0 |
SaturationAdjustmentBlue | 0 |
SaturationAdjustmentGreen | 0 |
SaturationAdjustmentMagenta | 0 |
SaturationAdjustmentOrange | 0 |
SaturationAdjustmentPurple | 0 |
SaturationAdjustmentRed | 0 |
SaturationAdjustmentYellow | 0 |
ScaleFactor35efl | 1.0 |
SceneCaptureType | Standard |
SceneType | Directly photographed |
SensingMethod | One-chip color area |
SensitivityType | Recommended Exposure Index |
SerialNumber | 6050307 |
Shadows2012 | +14 |
ShadowTint | 0 |
SharpenDetail | 25 |
SharpenEdgeMasking | 0 |
SharpenRadius | +1.0 |
Sharpness (1) | 42 |
Sharpness | Normal |
ShutterSpeed | 1/4000 |
ShutterSpeedValue | 1/4000 |
Software | Adobe Photoshop CS6 (Windows) |
SplitToningBalance | 0 |
SplitToningHighlightHue | 0 |
SplitToningHighlightSaturation | 0 |
SplitToningShadowHue | 0 |
SplitToningShadowSaturation | 0 |
SubjectDistanceRange | Unknown |
Tint | -3 |
ToneCurveName2012 | Linear |
ToneCurvePV2012 | 0, 0, 255, 255 |
ToneCurvePV2012Blue | 0, 0, 255, 255 |
ToneCurvePV2012Green | 0, 0, 255, 255 |
ToneCurvePV2012Red | 0, 0, 255, 255 |
URL_List | |
Version | 7.1 |
Vibrance | 0 |
VignetteAmount | 0 |
WhiteBalance (1) | As Shot |
WhiteBalance | Manual |
Whites2012 | -16 |